BEGIN:VCALENDAR
VERSION:2.0
PRODID:-//SchaffBar - ECPv6.15.20//NONSGML v1.0//EN
CALSCALE:GREGORIAN
METHOD:PUBLISH
X-ORIGINAL-URL:https://schaffbar-bb.de
X-WR-CALDESC:Veranstaltungen für SchaffBar
REFRESH-INTERVAL;VALUE=DURATION:PT1H
X-Robots-Tag:noindex
X-PUBLISHED-TTL:PT1H
BEGIN:VTIMEZONE
TZID:Europe/Berlin
BEGIN:DAYLIGHT
TZOFFSETFROM:+0100
TZOFFSETTO:+0200
TZNAME:CEST
DTSTART:20220327T010000
END:DAYLIGHT
BEGIN:STANDARD
TZOFFSETFROM:+0200
TZOFFSETTO:+0100
TZNAME:CET
DTSTART:20221030T010000
END:STANDARD
BEGIN:DAYLIGHT
TZOFFSETFROM:+0100
TZOFFSETTO:+0200
TZNAME:CEST
DTSTART:20230326T010000
END:DAYLIGHT
BEGIN:STANDARD
TZOFFSETFROM:+0200
TZOFFSETTO:+0100
TZNAME:CET
DTSTART:20231029T010000
END:STANDARD
BEGIN:DAYLIGHT
TZOFFSETFROM:+0100
TZOFFSETTO:+0200
TZNAME:CEST
DTSTART:20240331T010000
END:DAYLIGHT
BEGIN:STANDARD
TZOFFSETFROM:+0200
TZOFFSETTO:+0100
TZNAME:CET
DTSTART:20241027T010000
END:STANDARD
END:VTIMEZONE
BEGIN:VEVENT
DTSTART;TZID=Europe/Berlin:20230902T160000
DTEND;TZID=Europe/Berlin:20230902T170000
DTSTAMP:20260419T173915
CREATED:20230817T092832Z
LAST-MODIFIED:20230817T092832Z
UID:10000004-1693670400-1693674000@schaffbar-bb.de
SUMMARY:SchaffBar Treff
DESCRIPTION:Es hat sich eine Gruppe zusammengefunden\, die sich regelmäßig treffen möchte. Hier werdet Ihr über alles Wichtige auf dem Laufenden gehalten. Herzliche Einladung an alle Interessierten.
URL:https://schaffbar-bb.de/event/schaffbar-treff/
LOCATION:Gemeindezimmer Evangelisch-Methodistische Kirche Böblingen\, Friedrich-List-Straße 69\, Böblingen\, 71032\, Deutschland
END:VEVENT
END:VCALENDAR