BEGIN:VCALENDAR
VERSION:2.0
PRODID:-//SchaffBar - ECPv6.15.20//NONSGML v1.0//EN
CALSCALE:GREGORIAN
METHOD:PUBLISH
X-ORIGINAL-URL:https://schaffbar-bb.de
X-WR-CALDESC:Veranstaltungen für SchaffBar
REFRESH-INTERVAL;VALUE=DURATION:PT1H
X-Robots-Tag:noindex
X-PUBLISHED-TTL:PT1H
BEGIN:VTIMEZONE
TZID:Europe/Berlin
BEGIN:DAYLIGHT
TZOFFSETFROM:+0100
TZOFFSETTO:+0200
TZNAME:CEST
DTSTART:20250330T010000
END:DAYLIGHT
BEGIN:STANDARD
TZOFFSETFROM:+0200
TZOFFSETTO:+0100
TZNAME:CET
DTSTART:20251026T010000
END:STANDARD
BEGIN:DAYLIGHT
TZOFFSETFROM:+0100
TZOFFSETTO:+0200
TZNAME:CEST
DTSTART:20260329T010000
END:DAYLIGHT
BEGIN:STANDARD
TZOFFSETFROM:+0200
TZOFFSETTO:+0100
TZNAME:CET
DTSTART:20261025T010000
END:STANDARD
BEGIN:DAYLIGHT
TZOFFSETFROM:+0100
TZOFFSETTO:+0200
TZNAME:CEST
DTSTART:20270328T010000
END:DAYLIGHT
BEGIN:STANDARD
TZOFFSETFROM:+0200
TZOFFSETTO:+0100
TZNAME:CET
DTSTART:20271031T010000
END:STANDARD
END:VTIMEZONE
BEGIN:VEVENT
DTSTART;VALUE=DATE:20261119
DTEND;VALUE=DATE:20261123
DTSTAMP:20260422T180952
CREATED:20251203T123057Z
LAST-MODIFIED:20251203T123057Z
UID:10001639-1795046400-1795391999@schaffbar-bb.de
SUMMARY:Stuttgarter MesseHerbst
DESCRIPTION:Stuttgarter MesseHerbst\nDer Herbst wird bunt!\n\nhttps://www.messe-stuttgart.de/stuttgarter-messeherbst/ \n 
URL:https://schaffbar-bb.de/event/stuttgarter-messeherbst/
LOCATION:SchaffBar Halle\, Herrschaftsgartenstrasse 20/1\, Böblingen\, 71032\, Germany
ATTACH;FMTTYPE=image/jpeg:https://schaffbar-bb.de/wp-content/uploads/2025/12/stuttgart-messeherbst.jpg
ORGANIZER;CN="schaffBar BB":MAILTO:info@schaffbar-bb.de
END:VEVENT
END:VCALENDAR