BEGIN:VCALENDAR
VERSION:2.0
PRODID:-//SchaffBar - ECPv6.15.20//NONSGML v1.0//EN
CALSCALE:GREGORIAN
METHOD:PUBLISH
X-WR-CALNAME:SchaffBar
X-ORIGINAL-URL:https://schaffbar-bb.de
X-WR-CALDESC:Veranstaltungen für SchaffBar
REFRESH-INTERVAL;VALUE=DURATION:PT1H
X-Robots-Tag:noindex
X-PUBLISHED-TTL:PT1H
BEGIN:VTIMEZONE
TZID:Europe/Berlin
BEGIN:DAYLIGHT
TZOFFSETFROM:+0100
TZOFFSETTO:+0200
TZNAME:CEST
DTSTART:20250330T010000
END:DAYLIGHT
BEGIN:STANDARD
TZOFFSETFROM:+0200
TZOFFSETTO:+0100
TZNAME:CET
DTSTART:20251026T010000
END:STANDARD
BEGIN:DAYLIGHT
TZOFFSETFROM:+0100
TZOFFSETTO:+0200
TZNAME:CEST
DTSTART:20260329T010000
END:DAYLIGHT
BEGIN:STANDARD
TZOFFSETFROM:+0200
TZOFFSETTO:+0100
TZNAME:CET
DTSTART:20261025T010000
END:STANDARD
BEGIN:DAYLIGHT
TZOFFSETFROM:+0100
TZOFFSETTO:+0200
TZNAME:CEST
DTSTART:20270328T010000
END:DAYLIGHT
BEGIN:STANDARD
TZOFFSETFROM:+0200
TZOFFSETTO:+0100
TZNAME:CET
DTSTART:20271031T010000
END:STANDARD
END:VTIMEZONE
BEGIN:VEVENT
DTSTART;TZID=Europe/Berlin:20261105T183000
DTEND;TZID=Europe/Berlin:20261105T210000
DTSTAMP:20260424T181855
CREATED:20260422T162110Z
LAST-MODIFIED:20260422T171044Z
UID:10002445-1793903400-1793912400@schaffbar-bb.de
SUMMARY:Betreutes Werkeln - HolzBereich
DESCRIPTION:Betreutes Werkeln – Dein Projekt\, dein Handwerk!\nDu hast eine Idee\, weißt aber nicht genau\, wie du den ersten Schnitt setzen sollst? \nIn unserer offenen Werkstatt lassen wir dich nicht allein. \nBeim betreuten Werkeln stehen wir dir mit Rat und Tat zur Seite. \nProjekt: Wir schauen gemeinsam mit Dir wie die nächsten Schritte aussehen. \nMaschinen-Support: Wir zeigen dir den sicheren Umgang mit unseren Geräten (keine Einweisung). \nSelbermachen im Fokus: Wir halten das Wissen bereit\, aber du hältst die Säge. \nEgal ob Anfänger oder Fortgeschrittener – wir geben dir den Schubs in die richtige Richtung\, damit du dein Projekt mit Stolz selbst fertigstellst.
URL:https://schaffbar-bb.de/event/betreutes-werkeln-holzbereich/2026-11-05/
CATEGORIES:betreutesArbeiten
ATTACH;FMTTYPE=image/png:https://schaffbar-bb.de/wp-content/uploads/2026/04/Treffen-holzBereich.png
END:VEVENT
BEGIN:VEVENT
DTSTART;VALUE=DATE:20261119
DTEND;VALUE=DATE:20261123
DTSTAMP:20260424T181855
CREATED:20251203T123057Z
LAST-MODIFIED:20251203T123057Z
UID:10001639-1795046400-1795391999@schaffbar-bb.de
SUMMARY:Stuttgarter MesseHerbst
DESCRIPTION:Stuttgarter MesseHerbst\nDer Herbst wird bunt!\n\nhttps://www.messe-stuttgart.de/stuttgarter-messeherbst/ \n 
URL:https://schaffbar-bb.de/event/stuttgarter-messeherbst/
LOCATION:SchaffBar Halle\, Herrschaftsgartenstrasse 20/1\, Böblingen\, 71032\, Germany
ATTACH;FMTTYPE=image/jpeg:https://schaffbar-bb.de/wp-content/uploads/2025/12/stuttgart-messeherbst.jpg
ORGANIZER;CN="schaffBar BB":MAILTO:info@schaffbar-bb.de
END:VEVENT
BEGIN:VEVENT
DTSTART;TZID=Europe/Berlin:20261119T183000
DTEND;TZID=Europe/Berlin:20261119T210000
DTSTAMP:20260424T181855
CREATED:20260422T162110Z
LAST-MODIFIED:20260422T171044Z
UID:10002446-1795113000-1795122000@schaffbar-bb.de
SUMMARY:Betreutes Werkeln - HolzBereich
DESCRIPTION:Betreutes Werkeln – Dein Projekt\, dein Handwerk!\nDu hast eine Idee\, weißt aber nicht genau\, wie du den ersten Schnitt setzen sollst? \nIn unserer offenen Werkstatt lassen wir dich nicht allein. \nBeim betreuten Werkeln stehen wir dir mit Rat und Tat zur Seite. \nProjekt: Wir schauen gemeinsam mit Dir wie die nächsten Schritte aussehen. \nMaschinen-Support: Wir zeigen dir den sicheren Umgang mit unseren Geräten (keine Einweisung). \nSelbermachen im Fokus: Wir halten das Wissen bereit\, aber du hältst die Säge. \nEgal ob Anfänger oder Fortgeschrittener – wir geben dir den Schubs in die richtige Richtung\, damit du dein Projekt mit Stolz selbst fertigstellst.
URL:https://schaffbar-bb.de/event/betreutes-werkeln-holzbereich/2026-11-19/
CATEGORIES:betreutesArbeiten
ATTACH;FMTTYPE=image/png:https://schaffbar-bb.de/wp-content/uploads/2026/04/Treffen-holzBereich.png
END:VEVENT
END:VCALENDAR