BEGIN:VCALENDAR
VERSION:2.0
PRODID:-//SchaffBar - ECPv6.15.20//NONSGML v1.0//EN
CALSCALE:GREGORIAN
METHOD:PUBLISH
X-WR-CALNAME:SchaffBar
X-ORIGINAL-URL:https://schaffbar-bb.de
X-WR-CALDESC:Veranstaltungen für SchaffBar
REFRESH-INTERVAL;VALUE=DURATION:PT1H
X-Robots-Tag:noindex
X-PUBLISHED-TTL:PT1H
BEGIN:VTIMEZONE
TZID:Europe/Berlin
BEGIN:DAYLIGHT
TZOFFSETFROM:+0100
TZOFFSETTO:+0200
TZNAME:CEST
DTSTART:20230326T010000
END:DAYLIGHT
BEGIN:STANDARD
TZOFFSETFROM:+0200
TZOFFSETTO:+0100
TZNAME:CET
DTSTART:20231029T010000
END:STANDARD
BEGIN:DAYLIGHT
TZOFFSETFROM:+0100
TZOFFSETTO:+0200
TZNAME:CEST
DTSTART:20240331T010000
END:DAYLIGHT
BEGIN:STANDARD
TZOFFSETFROM:+0200
TZOFFSETTO:+0100
TZNAME:CET
DTSTART:20241027T010000
END:STANDARD
BEGIN:DAYLIGHT
TZOFFSETFROM:+0100
TZOFFSETTO:+0200
TZNAME:CEST
DTSTART:20250330T010000
END:DAYLIGHT
BEGIN:STANDARD
TZOFFSETFROM:+0200
TZOFFSETTO:+0100
TZNAME:CET
DTSTART:20251026T010000
END:STANDARD
END:VTIMEZONE
BEGIN:VEVENT
DTSTART;TZID=Europe/Berlin:20240501T183000
DTEND;TZID=Europe/Berlin:20240501T200000
DTSTAMP:20260425T145624
CREATED:20240327T203239Z
LAST-MODIFIED:20240327T203239Z
UID:10000033-1714588200-1714593600@schaffbar-bb.de
SUMMARY:Mitmach-Treff (Mittwoch)
DESCRIPTION:Um die aufgekommene Energie und Begeisterung in konkrete Pläne umzusetzen\, laden wir euch herzlich zu wöchentlichen Mitmach-Treff ein. Lasst uns gemeinsam in der Halle Ideen für die SchaffBar weiterentwickeln und die nächsten Schritte planen. \nAktuell finden die Mitmach-Treffen im wöchentlichen Wechsel Dienstags oder Mittwoch statt.
URL:https://schaffbar-bb.de/event/mitmach-treff-mittwoch-6/
LOCATION:SchaffBar Halle\, Herrschaftsgartenstrasse 20/1\, Böblingen\, 71032\, Germany
END:VEVENT
BEGIN:VEVENT
DTSTART;TZID=Europe/Berlin:20240424T183000
DTEND;TZID=Europe/Berlin:20240424T200000
DTSTAMP:20260425T145624
CREATED:20240421T173924Z
LAST-MODIFIED:20240421T174138Z
UID:10000036-1713983400-1713988800@schaffbar-bb.de
SUMMARY:Vorbereitung für Tag der Erde
DESCRIPTION:Das Vorbereitungs-Team für das Festival “Tag der Erde” trifft sich am Mittwoch 24.04.2024 um 18:30 in der Schaffbar.
URL:https://schaffbar-bb.de/event/vorbereitung-fuer-tag-der-erde/
LOCATION:SchaffBar Halle\, Herrschaftsgartenstrasse 20/1\, Böblingen\, 71032\, Germany
ORGANIZER;CN="schaffBar BB":MAILTO:info@schaffbar-bb.de
END:VEVENT
BEGIN:VEVENT
DTSTART;TZID=Europe/Berlin:20240423T183000
DTEND;TZID=Europe/Berlin:20240423T200000
DTSTAMP:20260425T145624
CREATED:20240327T203214Z
LAST-MODIFIED:20240327T203214Z
UID:10000028-1713897000-1713902400@schaffbar-bb.de
SUMMARY:Mitmach-Treff (Dienstag)
DESCRIPTION:Um die aufgekommene Energie und Begeisterung in konkrete Pläne umzusetzen\, laden wir euch herzlich zu wöchentlichen Mitmach-Treff ein. Lasst uns gemeinsam in der Halle Ideen für die SchaffBar weiterentwickeln und die nächsten Schritte planen. \nAktuell finden die Mitmach-Treffen im wöchentlichen Wechsel Dienstags oder Mittwoch statt.
URL:https://schaffbar-bb.de/event/mitmach-treff-dienstag-6/
LOCATION:SchaffBar Halle\, Herrschaftsgartenstrasse 20/1\, Böblingen\, 71032\, Germany
END:VEVENT
BEGIN:VEVENT
DTSTART;TZID=Europe/Berlin:20240417T183000
DTEND;TZID=Europe/Berlin:20240417T200000
DTSTAMP:20260425T145624
CREATED:20240327T203154Z
LAST-MODIFIED:20240327T203154Z
UID:10000032-1713378600-1713384000@schaffbar-bb.de
SUMMARY:Mitmach-Treff (Mittwoch)
DESCRIPTION:Um die aufgekommene Energie und Begeisterung in konkrete Pläne umzusetzen\, laden wir euch herzlich zu wöchentlichen Mitmach-Treff ein. Lasst uns gemeinsam in der Halle Ideen für die SchaffBar weiterentwickeln und die nächsten Schritte planen. \nAktuell finden die Mitmach-Treffen im wöchentlichen Wechsel Dienstags oder Mittwoch statt.
URL:https://schaffbar-bb.de/event/mitmach-treff-mittwoch-5/
LOCATION:SchaffBar Halle\, Herrschaftsgartenstrasse 20/1\, Böblingen\, 71032\, Germany
END:VEVENT
BEGIN:VEVENT
DTSTART;TZID=Europe/Berlin:20240409T183000
DTEND;TZID=Europe/Berlin:20240409T200000
DTSTAMP:20260425T145624
CREATED:20240221T124052Z
LAST-MODIFIED:20240225T110613Z
UID:10000018-1712687400-1712692800@schaffbar-bb.de
SUMMARY:Informationsveranstaltung: Förderung von Balkonkraftwerken in der SchaffBar
DESCRIPTION:
URL:https://schaffbar-bb.de/event/informationsveranstaltung-foerderung-von-balkonkraftwerken-in-der-schaffbar/
LOCATION:SchaffBar Halle\, Herrschaftsgartenstrasse 20/1\, Böblingen\, 71032\, Germany
END:VEVENT
BEGIN:VEVENT
DTSTART;TZID=Europe/Berlin:20240403T183000
DTEND;TZID=Europe/Berlin:20240403T200000
DTSTAMP:20260425T145624
CREATED:20240327T203125Z
LAST-MODIFIED:20240327T203125Z
UID:10000031-1712169000-1712174400@schaffbar-bb.de
SUMMARY:Mitmach-Treff (Mittwoch)
DESCRIPTION:Um die aufgekommene Energie und Begeisterung in konkrete Pläne umzusetzen\, laden wir euch herzlich zu wöchentlichen Mitmach-Treff ein. Lasst uns gemeinsam in der Halle Ideen für die SchaffBar weiterentwickeln und die nächsten Schritte planen. \nAktuell finden die Mitmach-Treffen im wöchentlichen Wechsel Dienstags oder Mittwoch statt.
URL:https://schaffbar-bb.de/event/mitmach-treff-mittwoch-4/
LOCATION:SchaffBar Halle\, Herrschaftsgartenstrasse 20/1\, Böblingen\, 71032\, Germany
END:VEVENT
BEGIN:VEVENT
DTSTART;TZID=Europe/Berlin:20240326T183000
DTEND;TZID=Europe/Berlin:20240326T200000
DTSTAMP:20260425T145624
CREATED:20240221T124334Z
LAST-MODIFIED:20240221T124334Z
UID:10000023-1711477800-1711483200@schaffbar-bb.de
SUMMARY:Mitmach-Treff (Dienstag)
DESCRIPTION:Um die aufgekommene Energie und Begeisterung in konkrete Pläne umzusetzen\, laden wir euch herzlich zu wöchentlichen Mitmach-Treff ein. Lasst uns gemeinsam in der Halle Ideen für die SchaffBar weiterentwickeln und die nächsten Schritte planen. \nAktuell finden die Mitmach-Treffen im wöchentlichen Wechsel Dienstags oder Mittwoch statt.
URL:https://schaffbar-bb.de/event/mitmach-treff-dienstag-5/
LOCATION:SchaffBar Halle\, Herrschaftsgartenstrasse 20/1\, Böblingen\, 71032\, Germany
END:VEVENT
BEGIN:VEVENT
DTSTART;TZID=Europe/Berlin:20240320T183000
DTEND;TZID=Europe/Berlin:20240320T200000
DTSTAMP:20260425T145624
CREATED:20240221T124250Z
LAST-MODIFIED:20240221T124250Z
UID:10000021-1710959400-1710964800@schaffbar-bb.de
SUMMARY:Mitmach-Treff (Mittwoch)
DESCRIPTION:Um die aufgekommene Energie und Begeisterung in konkrete Pläne umzusetzen\, laden wir euch herzlich zu wöchentlichen Mitmach-Treff ein. Lasst uns gemeinsam in der Halle Ideen für die SchaffBar weiterentwickeln und die nächsten Schritte planen. \nAktuell finden die Mitmach-Treffen im wöchentlichen Wechsel Dienstags oder Mittwoch statt.
URL:https://schaffbar-bb.de/event/mitmach-treff-mittwoch-3/
LOCATION:SchaffBar Halle\, Herrschaftsgartenstrasse 20/1\, Böblingen\, 71032\, Germany
END:VEVENT
BEGIN:VEVENT
DTSTART;TZID=Europe/Berlin:20240312T183000
DTEND;TZID=Europe/Berlin:20240312T200000
DTSTAMP:20260425T145624
CREATED:20240221T124311Z
LAST-MODIFIED:20240221T124311Z
UID:10000022-1710268200-1710273600@schaffbar-bb.de
SUMMARY:Mitmach-Treff (Dienstag)
DESCRIPTION:Um die aufgekommene Energie und Begeisterung in konkrete Pläne umzusetzen\, laden wir euch herzlich zu wöchentlichen Mitmach-Treff ein. Lasst uns gemeinsam in der Halle Ideen für die SchaffBar weiterentwickeln und die nächsten Schritte planen. \nAktuell finden die Mitmach-Treffen im wöchentlichen Wechsel Dienstags oder Mittwoch statt.
URL:https://schaffbar-bb.de/event/mitmach-treff-dienstag-4/
LOCATION:SchaffBar Halle\, Herrschaftsgartenstrasse 20/1\, Böblingen\, 71032\, Germany
END:VEVENT
BEGIN:VEVENT
DTSTART;TZID=Europe/Berlin:20240306T183000
DTEND;TZID=Europe/Berlin:20240306T200000
DTSTAMP:20260425T145624
CREATED:20240221T124205Z
LAST-MODIFIED:20240221T124205Z
UID:10000020-1709749800-1709755200@schaffbar-bb.de
SUMMARY:Mitmach-Treff (Mittwoch)
DESCRIPTION:Um die aufgekommene Energie und Begeisterung in konkrete Pläne umzusetzen\, laden wir euch herzlich zu wöchentlichen Mitmach-Treff ein. Lasst uns gemeinsam in der Halle Ideen für die SchaffBar weiterentwickeln und die nächsten Schritte planen. \nAktuell finden die Mitmach-Treffen im wöchentlichen Wechsel Dienstags oder Mittwoch statt.
URL:https://schaffbar-bb.de/event/mitmach-treff-mittwoch-2/
LOCATION:SchaffBar Halle\, Herrschaftsgartenstrasse 20/1\, Böblingen\, 71032\, Germany
END:VEVENT
BEGIN:VEVENT
DTSTART;TZID=Europe/Berlin:20240227T183000
DTEND;TZID=Europe/Berlin:20240227T200000
DTSTAMP:20260425T145624
CREATED:20240125T074848Z
LAST-MODIFIED:20240125T074848Z
UID:10000017-1709058600-1709064000@schaffbar-bb.de
SUMMARY:Mitmach-Treff (Dienstag)
DESCRIPTION:Um die aufgekommene Energie und Begeisterung in konkrete Pläne umzusetzen\, laden wir euch herzlich zu wöchentlichen Mitmach-Treff ein. Lasst uns gemeinsam in der Halle Ideen für die SchaffBar weiterentwickeln und die nächsten Schritte planen. \nAktuell finden die Mitmach-Treffen im wöchentlichen Wechsel Dienstags oder Mittwoch statt.
URL:https://schaffbar-bb.de/event/mitmach-treff-dienstag-2/
LOCATION:SchaffBar Halle\, Herrschaftsgartenstrasse 20/1\, Böblingen\, 71032\, Germany
END:VEVENT
BEGIN:VEVENT
DTSTART;TZID=Europe/Berlin:20240221T183000
DTEND;TZID=Europe/Berlin:20240221T200000
DTSTAMP:20260425T145624
CREATED:20240125T074823Z
LAST-MODIFIED:20240125T074823Z
UID:10000016-1708540200-1708545600@schaffbar-bb.de
SUMMARY:Mitmach-Treff (Mittwoch)
DESCRIPTION:Um die aufgekommene Energie und Begeisterung in konkrete Pläne umzusetzen\, laden wir euch herzlich zu wöchentlichen Mitmach-Treff ein. Lasst uns gemeinsam in der Halle Ideen für die SchaffBar weiterentwickeln und die nächsten Schritte planen. \nAktuell finden die Mitmach-Treffen im wöchentlichen Wechsel Dienstags oder Mittwoch statt.
URL:https://schaffbar-bb.de/event/mitmach-treff-mittwoch/
LOCATION:SchaffBar Halle\, Herrschaftsgartenstrasse 20/1\, Böblingen\, 71032\, Germany
END:VEVENT
BEGIN:VEVENT
DTSTART;TZID=Europe/Berlin:20240213T183000
DTEND;TZID=Europe/Berlin:20240213T200000
DTSTAMP:20260425T145624
CREATED:20240221T124219Z
LAST-MODIFIED:20240221T124219Z
UID:10000019-1707849000-1707854400@schaffbar-bb.de
SUMMARY:Mitmach-Treff (Dienstag)
DESCRIPTION:Um die aufgekommene Energie und Begeisterung in konkrete Pläne umzusetzen\, laden wir euch herzlich zu wöchentlichen Mitmach-Treff ein. Lasst uns gemeinsam in der Halle Ideen für die SchaffBar weiterentwickeln und die nächsten Schritte planen. \nAktuell finden die Mitmach-Treffen im wöchentlichen Wechsel Dienstags oder Mittwoch statt.
URL:https://schaffbar-bb.de/event/mitmach-treff-dienstag-3/
LOCATION:SchaffBar Halle\, Herrschaftsgartenstrasse 20/1\, Böblingen\, 71032\, Germany
END:VEVENT
BEGIN:VEVENT
DTSTART;TZID=Europe/Berlin:20240213T183000
DTEND;TZID=Europe/Berlin:20240213T200000
DTSTAMP:20260425T145624
CREATED:20240125T074802Z
LAST-MODIFIED:20240125T074802Z
UID:10000015-1707849000-1707854400@schaffbar-bb.de
SUMMARY:Mitmach-Treff (Dienstag)
DESCRIPTION:Um die aufgekommene Energie und Begeisterung in konkrete Pläne umzusetzen\, laden wir euch herzlich zu wöchentlichen Mitmach-Treff ein. Lasst uns gemeinsam in der Halle Ideen für die SchaffBar weiterentwickeln und die nächsten Schritte planen. \nAktuell finden die Mitmach-Treffen im wöchentlichen Wechsel Dienstags oder Mittwoch statt.
URL:https://schaffbar-bb.de/event/mitmach-treff-dienstag/
LOCATION:SchaffBar Halle\, Herrschaftsgartenstrasse 20/1\, Böblingen\, 71032\, Germany
END:VEVENT
BEGIN:VEVENT
DTSTART;TZID=Europe/Berlin:20240207T183000
DTEND;TZID=Europe/Berlin:20240207T200000
DTSTAMP:20260425T145624
CREATED:20240125T074508Z
LAST-MODIFIED:20240125T074709Z
UID:10000014-1707330600-1707336000@schaffbar-bb.de
SUMMARY:Mitmach-Treff (Mittwoch)
DESCRIPTION:Um die aufgekommene Energie und Begeisterung in konkrete Pläne umzusetzen\, laden wir euch herzlich zu wöchentlichen Mitmach-Treff ein. Lasst uns gemeinsam in der Halle Ideen für die SchaffBar weiterentwickeln und die nächsten Schritte planen. \nAktuell finden die Mitmach-Treffen im wöchentlichen Wechsel Dienstags oder Mittwoch statt.
URL:https://schaffbar-bb.de/event/mitmach-treff-3/
LOCATION:SchaffBar Halle\, Herrschaftsgartenstrasse 20/1\, Böblingen\, 71032\, Germany
END:VEVENT
BEGIN:VEVENT
DTSTART;TZID=Europe/Berlin:20240130T183000
DTEND;TZID=Europe/Berlin:20240130T200000
DTSTAMP:20260425T145624
CREATED:20240125T074357Z
LAST-MODIFIED:20240125T074650Z
UID:10000013-1706639400-1706644800@schaffbar-bb.de
SUMMARY:Mitmach-Treff (Dienstag)
DESCRIPTION:Um die aufgekommene Energie und Begeisterung in konkrete Pläne umzusetzen\, laden wir euch herzlich zu wöchentlichen Mitmach-Treff ein. Lasst uns gemeinsam in der Halle Ideen für die SchaffBar weiterentwickeln und die nächsten Schritte planen. \nAktuell finden die Mitmach-Treffen im wöchentlichen Wechsel Dienstags oder Mittwoch statt.
URL:https://schaffbar-bb.de/event/mitmach-treff-2/
LOCATION:SchaffBar Halle\, Herrschaftsgartenstrasse 20/1\, Böblingen\, 71032\, Germany
END:VEVENT
BEGIN:VEVENT
DTSTART;TZID=Europe/Berlin:20240124T183000
DTEND;TZID=Europe/Berlin:20240124T183000
DTSTAMP:20260425T145624
CREATED:20240117T081401Z
LAST-MODIFIED:20240117T081411Z
UID:10000012-1706121000-1706121000@schaffbar-bb.de
SUMMARY:MitmachTreff
DESCRIPTION:Um die aufgekommene Energie und Begeisterung in konkrete Pläne umzusetzen\, laden wir euch herzlich zu wöchentlichen MitmachTreff ein. Am Mittwoch\, den 24. Januar\, um 18:30 Uhr möchten wir gemeinsam in der Halle Ideen weiterentwickeln und die nächsten Schritte planen. \nAktuell finden die MitmachTreffen im wöchentlichen Wechsel Dienstags oder Mittwoch statt.
URL:https://schaffbar-bb.de/event/mitmachtreff-mittwoch/
LOCATION:SchaffBar Halle\, Herrschaftsgartenstrasse 20/1\, Böblingen\, 71032\, Germany
END:VEVENT
BEGIN:VEVENT
DTSTART;TZID=Europe/Berlin:20240112T170000
DTEND;TZID=Europe/Berlin:20240112T200000
DTSTAMP:20260425T145624
CREATED:20231230T131635Z
LAST-MODIFIED:20240104T164806Z
UID:10000009-1705078800-1705089600@schaffbar-bb.de
SUMMARY:SchaffBar Treff in der neuen Halle!
DESCRIPTION:Um das neue Jahr gebührend einzuleiten\, laden wir euch herzlich zu unserem nächsten Treffen direkt in der neuen Halle ein. Gemeinsam werden wir Pläne schmieden\, Ideen austauschen und den Raum erkunden\, der schon bald mit Leben gefüllt sein wird. Eure Ideen und Anregungen sind gefragt\, denn wir gestalten die Halle gemeinsam! \nDiesmal treffen wir uns nicht samstags\, sondern am Freitag\, den 12.1. ab 17 Uhr. Haltet euch den Termin also schon mal frei! \nEs wird Essen und Getränke geben\, aber bringt bitte einen Löffel und eine Schüssel mit.
URL:https://schaffbar-bb.de/event/schaffbar-treff-3/
LOCATION:SchaffBar Halle\, Herrschaftsgartenstrasse 20/1\, Böblingen\, 71032\, Germany
END:VEVENT
END:VCALENDAR